BEGIN:VCALENDAR
VERSION:2.0
PRODID:-//5rhythms Dagmar Cee - ECPv6.15.20//NONSGML v1.0//EN
CALSCALE:GREGORIAN
METHOD:PUBLISH
X-ORIGINAL-URL:https://dagmarcee.de
X-WR-CALDESC:Veranstaltungen für 5rhythms Dagmar Cee
REFRESH-INTERVAL;VALUE=DURATION:PT1H
X-Robots-Tag:noindex
X-PUBLISHED-TTL:PT1H
BEGIN:VTIMEZONE
TZID:Europe/Berlin
BEGIN:DAYLIGHT
TZOFFSETFROM:+0100
TZOFFSETTO:+0200
TZNAME:CEST
DTSTART:20250330T010000
END:DAYLIGHT
BEGIN:STANDARD
TZOFFSETFROM:+0200
TZOFFSETTO:+0100
TZNAME:CET
DTSTART:20251026T010000
END:STANDARD
BEGIN:DAYLIGHT
TZOFFSETFROM:+0100
TZOFFSETTO:+0200
TZNAME:CEST
DTSTART:20260329T010000
END:DAYLIGHT
BEGIN:STANDARD
TZOFFSETFROM:+0200
TZOFFSETTO:+0100
TZNAME:CET
DTSTART:20261025T010000
END:STANDARD
BEGIN:DAYLIGHT
TZOFFSETFROM:+0100
TZOFFSETTO:+0200
TZNAME:CEST
DTSTART:20270328T010000
END:DAYLIGHT
BEGIN:STANDARD
TZOFFSETFROM:+0200
TZOFFSETTO:+0100
TZNAME:CET
DTSTART:20271031T010000
END:STANDARD
END:VTIMEZONE
BEGIN:VEVENT
DTSTART;TZID=Europe/Berlin:20260506T173000
DTEND;TZID=Europe/Berlin:20260510T150000
DTSTAMP:20260420T052452
CREATED:20250622T072018Z
LAST-MODIFIED:20250929T115023Z
UID:5199-1778088600-1778425200@dagmarcee.de
SUMMARY:unmasking the essence - hollerbühl
DESCRIPTION:Ein 5Tage Retreat \nRichte eine Kamera auf Menschen und sie verändern sich. Ein Spiel von Sehen und Gesehen-Werden\, Sich-Aufplustern und Verstecken\, von Ängsten und Sehnsüchten\, von Masken\, innerer Wahrheit und äußerem Bild beginnt.\n\nWie viel von dem\, was dich ausmacht\, deinem Potential und deiner Schönheit\, ist hinter den antrainierten Masken sichtbar?\nWir können die Kraft der Bilder nutzen\, um einen kreativen Prozess auf dem Weg zu uns selbst\, unserer Essenz zu starten\, um zusammen mit der Lust an Bewegung einen künstlerischen Ausdruck zu finden. So entsteht eine Bewusstheit\, die uns die Freiheit zu wählen ermöglicht.\n\nIn diesem Workshop werden wir erforschen\, wie wir deckungsgleich sein können\, wie unser äußeres Erscheinen mit dem inneren Empfinden zusammengeht\, wie wir unsere Essenz sichtbar machen.\nZum Verbildlichen werden wir unsere Masken tatsächlich gestalten und uns mit ihnen bewegen. Die Kamera wird dich unterstützen\, die Schönheit deines Seins unter dem schönen Schein zu entdecken.\n\nDas Seminarhaus Hollerbühl ist ein wunderbarer Ort\, an den ich seit 20 Jahren immer wieder gerne intensive\, herzöffnende Workshops gebe. Sehr familiär und gehalten\, im wunderbaren Südschwarzwald gelegen\, bietet es einen bezaubernden Rahmen\, um gemeinsam tief in Bewegung und Prozesse zu gehen. \n“Mine is the art of inspiring people\, to turn themselves inside out\, to transform their suffering into art\, their art into awareness and their awareness into action.” \nGabrielle Roth\n\nDieser Workshop kann als 5 Tage Heartbeat Erfahrung für das 5R-Teacher Training angerechnet werden. \n\nDATUM / DATE \nBeginn: Mittwoch\, 06. Mai 2026\, 17.30 Uhr\nEnde: Sonntag\, 10. Mai 2026\, 15 Uhr\n \nSEMINARKOSTEN / COST\nAnmeldung + Bezahlung bis 20. Februar 2026: 410 €\ndanach: 450 €\nErmäßigung auf Anfrage möglich\n \nUNTERKUNFT / ACCOMMODATION\nKosten pro Tag incl. vegetarisch biologischer Vollverpflegung:\nJe nach Zimmer zw. 91 € – 151 € pro Person und Tag\nDie Unterkunft wird im Seminarhaus direkt gebucht.\n\nANMELDUNG\nüber diese Webseite unter Anmeldungen\n\noder bei Claudia Adler:\nan.claudia.adler@gmail.com
URL:https://dagmarcee.de/event/unmasking-essence-hollerbuehl-26/
LOCATION:Seminarhaus Hollerbühl\, Schmalenberg 20\, Dachsberg\, Baden-Würtemberg\, 79875\, Deutschland
CATEGORIES:workshop
ATTACH;FMTTYPE=image/jpeg:https://dagmarcee.de/wp-content/uploads/welle-web-2a-1.jpg
END:VEVENT
END:VCALENDAR