BEGIN:VCALENDAR
VERSION:2.0
PRODID:-//5rhythms Dagmar Cee - ECPv6.15.20//NONSGML v1.0//EN
CALSCALE:GREGORIAN
METHOD:PUBLISH
X-ORIGINAL-URL:https://dagmarcee.de
X-WR-CALDESC:Veranstaltungen für 5rhythms Dagmar Cee
REFRESH-INTERVAL;VALUE=DURATION:PT1H
X-Robots-Tag:noindex
X-PUBLISHED-TTL:PT1H
BEGIN:VTIMEZONE
TZID:Europe/Berlin
BEGIN:DAYLIGHT
TZOFFSETFROM:+0100
TZOFFSETTO:+0200
TZNAME:CEST
DTSTART:20250330T010000
END:DAYLIGHT
BEGIN:STANDARD
TZOFFSETFROM:+0200
TZOFFSETTO:+0100
TZNAME:CET
DTSTART:20251026T010000
END:STANDARD
BEGIN:DAYLIGHT
TZOFFSETFROM:+0100
TZOFFSETTO:+0200
TZNAME:CEST
DTSTART:20260329T010000
END:DAYLIGHT
BEGIN:STANDARD
TZOFFSETFROM:+0200
TZOFFSETTO:+0100
TZNAME:CET
DTSTART:20261025T010000
END:STANDARD
BEGIN:DAYLIGHT
TZOFFSETFROM:+0100
TZOFFSETTO:+0200
TZNAME:CEST
DTSTART:20270328T010000
END:DAYLIGHT
BEGIN:STANDARD
TZOFFSETFROM:+0200
TZOFFSETTO:+0100
TZNAME:CET
DTSTART:20271031T010000
END:STANDARD
END:VTIMEZONE
BEGIN:VEVENT
DTSTART;TZID=Europe/Berlin:20260506T173000
DTEND;TZID=Europe/Berlin:20260510T150000
DTSTAMP:20260420T035750
CREATED:20250622T072018Z
LAST-MODIFIED:20250929T115023Z
UID:5199-1778088600-1778425200@dagmarcee.de
SUMMARY:unmasking the essence - hollerbühl
DESCRIPTION:Ein 5Tage Retreat \nRichte eine Kamera auf Menschen und sie verändern sich. Ein Spiel von Sehen und Gesehen-Werden\, Sich-Aufplustern und Verstecken\, von Ängsten und Sehnsüchten\, von Masken\, innerer Wahrheit und äußerem Bild beginnt.\n\nWie viel von dem\, was dich ausmacht\, deinem Potential und deiner Schönheit\, ist hinter den antrainierten Masken sichtbar?\nWir können die Kraft der Bilder nutzen\, um einen kreativen Prozess auf dem Weg zu uns selbst\, unserer Essenz zu starten\, um zusammen mit der Lust an Bewegung einen künstlerischen Ausdruck zu finden. So entsteht eine Bewusstheit\, die uns die Freiheit zu wählen ermöglicht.\n\nIn diesem Workshop werden wir erforschen\, wie wir deckungsgleich sein können\, wie unser äußeres Erscheinen mit dem inneren Empfinden zusammengeht\, wie wir unsere Essenz sichtbar machen.\nZum Verbildlichen werden wir unsere Masken tatsächlich gestalten und uns mit ihnen bewegen. Die Kamera wird dich unterstützen\, die Schönheit deines Seins unter dem schönen Schein zu entdecken.\n\nDas Seminarhaus Hollerbühl ist ein wunderbarer Ort\, an den ich seit 20 Jahren immer wieder gerne intensive\, herzöffnende Workshops gebe. Sehr familiär und gehalten\, im wunderbaren Südschwarzwald gelegen\, bietet es einen bezaubernden Rahmen\, um gemeinsam tief in Bewegung und Prozesse zu gehen. \n“Mine is the art of inspiring people\, to turn themselves inside out\, to transform their suffering into art\, their art into awareness and their awareness into action.” \nGabrielle Roth\n\nDieser Workshop kann als 5 Tage Heartbeat Erfahrung für das 5R-Teacher Training angerechnet werden. \n\nDATUM / DATE \nBeginn: Mittwoch\, 06. Mai 2026\, 17.30 Uhr\nEnde: Sonntag\, 10. Mai 2026\, 15 Uhr\n \nSEMINARKOSTEN / COST\nAnmeldung + Bezahlung bis 20. Februar 2026: 410 €\ndanach: 450 €\nErmäßigung auf Anfrage möglich\n \nUNTERKUNFT / ACCOMMODATION\nKosten pro Tag incl. vegetarisch biologischer Vollverpflegung:\nJe nach Zimmer zw. 91 € – 151 € pro Person und Tag\nDie Unterkunft wird im Seminarhaus direkt gebucht.\n\nANMELDUNG\nüber diese Webseite unter Anmeldungen\n\noder bei Claudia Adler:\nan.claudia.adler@gmail.com
URL:https://dagmarcee.de/event/unmasking-essence-hollerbuehl-26/
LOCATION:Seminarhaus Hollerbühl\, Schmalenberg 20\, Dachsberg\, Baden-Würtemberg\, 79875\, Deutschland
CATEGORIES:workshop
ATTACH;FMTTYPE=image/jpeg:https://dagmarcee.de/wp-content/uploads/welle-web-2a-1.jpg
END:VEVENT
BEGIN:VEVENT
DTSTART;TZID=Europe/Berlin:20260515T193000
DTEND;TZID=Europe/Berlin:20260515T220000
DTSTAMP:20260420T035750
CREATED:20260216T164505Z
LAST-MODIFIED:20260216T164505Z
UID:5317-1778873400-1778882400@dagmarcee.de
SUMMARY:wild waves - karlsruhe 15.05.26
DESCRIPTION:ist ein angeleiteter Wave Abend\, offen für alle\, zur Vertiefung der 5Rhythmen™-Praxis. \n \nZeit:\n19:30  – ca. 21:45 Uhr\n\nKosten:\n18 € // Sponsor  €25  // Ermäßigung auf Anfrage \nMitbringen:\nBequeme Kleidung in Schichten zum Wechseln\, Wasser. Wir tanzen barfuß oder in Tanzschuhen. \nErsttänzer*Innen können sich hier vorab über die 5Rhythmen-Arbeit informieren.
URL:https://dagmarcee.de/event/wild-waves-karlsruhe-15-05-26/
LOCATION:Sportkita Wirbelwind\, Am Sportpark 1A\, Karlsruhe\, Baden-Württemberg\, 76131\, Deutschland
CATEGORIES:waves
ATTACH;FMTTYPE=image/jpeg:https://dagmarcee.de/wp-content/uploads/welle-web-2a-1.jpg
ORGANIZER;CN="Roland":MAILTO:wave-tanz@web.de
END:VEVENT
BEGIN:VEVENT
DTSTART;TZID=Europe/Berlin:20260522T190000
DTEND;TZID=Europe/Berlin:20260525T140000
DTSTAMP:20260420T035750
CREATED:20251211T111733Z
LAST-MODIFIED:20260205T160853Z
UID:5282-1779476400-1779717600@dagmarcee.de
SUMMARY:magic moments - berlin
DESCRIPTION:The Magic of Curiosity \nUnser alljährlicher Benefiz-Pfingstworkshop mit Bettina Leuckert\, Dagmar Cee\,  Joanna Hussakowska (PL)\, Julie Stuart (USA) and Tim Barnes (GB). \nWenn wir mit Neugier statt mit Vorurteilen durch das Leben gehen\, finden wir die Magie in jedem Augenblick. Erin Chatters\n\nWir werden in Bewegung erforschen\, wie wir uns selbst und einander mit Offenheit begegnen können. Was verändert sich dadurch in uns? Wie entwickeln sich Begegnungen? Wie wandelt sich unser Bild von der Zukunft\, wenn es nicht die bekannten Ängste und Sorgen sind\, die es prägen\, sondern Unvoreingenommenheit und Interesse? Die 5Rhythmen geben diesem Forschen Struktur und Rahmen und ermöglichen darin zugleich eine immense Freiheit.\n\nFünf 5Rhythmen® Lehrer*innen gestalten diese Tage gemeinsam\, bringen ihre individuellen Ansätze mit und geben Impulse. \nWir bieten diesen Pfingstworkshop schon seit vielen Jahren an\, so dass er im Laufe der Zeit tiefe Wurzeln bekommen hat und mit getragen wird von einer Gemeinschaft engagierter Tänzer*innen! \nDie Hälfte des Gewinns wird für gemeinnützige 5Rhythmen® Projekte gespendet.\n\n \nZEIT \nFreitag\, 19:00 – 22:00 Uhr\nSamstag/Sonntag\, 11:00 – 18:30 Uhr\nMontag\, 10:00 – 14:00 Uhr\n\nORT\nFreie Waldorfschule Berlin – Mitte\nWeinmeister Strasse 16\n10178 Berlin\n\nSEMINARKOSTEN \nFrühbucher: 240 €\nAnmeldung + Bezahlung bis 01.03.26\,\ndanach: 270 €\nErmäßigung auf Anfrage möglich. \nANMELDUNG  \nBitte hier anmelden! / Please sign up here!\n	\n		\n			\n				\n					\n						Magic Moments 2026\n						\n							\n							\n							\n						\n						mit Dagmar Cee & Bettina Leuckert\n						22. - 25. Mai 2026May 22nd - 25th\, 2026Berlin\n						 Anmeldung / Sign up\n						[ * = Pflichtfeld / Required field ] \n					\n					\n						Anmeldung / registration: * \n						\n							\n							240 € (early bird - bei Anmeldung und Bezahlung bis 01.03.2026 / Registration and payment until March 1st 2026)\n							\n						\n						\n							\n							270 € (normal - bei Anmeldung und Bezahlung nach 01.03.2026 / Registration and payment after March 1th 2026)\n							\n						\n						\n					\n					\n						\n							First name\n							\n						\n						\n							Last name\n							\n						\n					\n					\n						\n							Address\n							\n						\n						\n							Address suffix\n							\n						\n					\n					\n						\n							Zip Code\n							\n						\n						\n							City\n							\n						\n					\n					\n						\n							Country\n							\n							\n								\n								\n								\n								\n								\n								\n								\n								\n								\n								\n								\n								\n								\n								\n								\n								\n								\n								\n								\n								\n								\n								\n								\n								\n								\n								\n								\n								\n								\n								\n								\n								\n								\n								\n								\n								\n								\n								\n								\n								\n								\n								\n								\n								\n								\n								\n								\n								\n								\n								\n								\n								\n								\n								\n								\n								\n								\n								\n								\n								\n								\n								\n								\n								\n								\n								\n								\n								\n								\n								\n								\n								\n								\n								\n								\n								\n								\n								\n								\n								\n								\n								\n								\n								\n								\n								\n								\n								\n								\n								\n								\n								\n								\n								\n								\n								\n								\n								\n								\n								\n								\n								\n								\n								\n								\n								\n								\n								\n								\n								\n								\n								\n								\n								\n								\n								\n								\n								\n								\n								\n								\n								\n								\n								\n								\n								\n								\n								\n								\n								\n								\n								\n								\n								\n								\n								\n								\n								\n								\n								\n								\n								\n								\n								\n								\n								\n								\n								\n								\n								\n								\n								\n								\n								\n								\n								\n								\n								\n								\n								\n								\n								\n								\n								\n								\n								\n								\n								\n								\n								\n								\n								\n								\n								\n								\n								\n								\n								\n								\n								\n								\n								\n								\n								\n								\n								\n								\n								\n								\n								\n								\n								\n								\n								\n								\n								\n								\n								\n								\n								\n								\n								\n								\n								\n								\n								\n								\n								\n								\n								\n								\n								\n								\n								\n								\n								\n								\n								\n								\n								\n								\n								\n								\n								\n								\n								\n								\n								\n								\n								\n								\n								\n								\n								\n								\n								\n								\n								\n								\n								\n								\n								\n								\n								\n								\n								\n								\n								\n								\n								\n								\n								\n								\n								\n								\n								\n								\n								\n								\n								\n								\n								\n								\n								\n								\n								\n								\n								\n								\n								\n								\n								\n								\n								\n								\n								\n								\n								\n								\n								\n								\n								\n								\n								\n								\n								\n								\n								\n								\n								\n								\n								\n								\n								\n								\n								\n								\n								\n								\n								\n								\n								\n								\n								\n								\n								\n								\n								\n								\n								\n								\n								\n								\n								\n								\n								\n								\n								\n								\n								\n								\n								\n								\n								\n								\n								\n								\n								\n								\n								\n								\n								\n								\n								\n								\n								\n								\n								\n								\n								\n								\n								\n								\n								\n								\n								\n								\n								\n								\n								\n								\n								\n								\n								\n								\n								\n								\n								\n								\n								\n								\n								\n								\n								\n								\n								\n								\n								\n								\n								\n								\n								\n								\n								\n								\n								\n								\n								\n								\n								\n								\n								\n								\n								\n								\n								\n								\n								\n								\n								\n							\n						\n						\n							Phone number\n							\n						\n					\n					\n						Email\n						\n					\n\n					\n						\n					\n					\n						\n							\n							* Ich habe die allgemeinen Geschäftsbedingungen gelesen und akzeptiert. / I’ve read and accept the terms & conditions.\n							\n						\n						\n							\n							* Ich habe die Datenschutzerklärung zur Kenntnis genommen. Ich stimme zu\, dass meine Angaben und Daten zur Beantwortung und Verarbeitung meiner Anfrage elektronisch erhoben und gespeichert werden. Hinweis: Sie können Ihre Einwilligung jederzeit für die Zukunft per E-Mail an die E-Mail-Adresse info@dagmarcee.de widerrufen.\n								I took note of the Privacy Policy. I agree that my information and data will be collected and stored electronically to answer and process my request. Note: You can revoke your consent at any time for the future by e-mail to e-mail-address info@dagmarcee.de.\n							\n						\n						\n							\n							\n								Ich möchte von Bettina Leuckert und/oder Dagmar Cee ihren Newsletter über weitere Angebote ihrer 5Rhythmen Arbeit erhalten. \n								Wir nutzen Newsletter2Go als Software für die Versendung unserer Newsletter. Im Rahmen dieser Anmeldung erklären Sie sich einverstanden\, dass Ihre eingegebenen Daten an die Sendinblue GmbH übermittelt werden. Bitte beachten Sie die Datenschutzbestimmungen und Allgemeinen Geschäftsbedingungen der Sendinblue GmbH. \n								I want to receive from Bettina Leuckert and/or Dagmar Cee their newsletter about further offers of their 5Rhythms work. \n								We use Newsletter2Go as the software for sending our newsletters. Within the scope of this registration\, you agree that your entered data will be transmitted to Sendinblue GmbH. Please note the privacy policy and general terms and conditions of Sendinblue GmbH. \n							\n						\n					\n\n					Senden | Submit
URL:https://dagmarcee.de/event/magic-moments-berlin-2026/
LOCATION:Waldorfschule Mitte\, Weinmeisterstraße 16\, Berlin\, 10178\, Deutschland
CATEGORIES:workshop
ATTACH;FMTTYPE=image/jpeg:https://dagmarcee.de/wp-content/uploads/welle-web-2a-1.jpg
ORGANIZER;CN="Berlin Bewegt - Leuckert/Cee GbR":MAILTO:inf@bettina-leuckert.com, info@dagmarcee.de
END:VEVENT
BEGIN:VEVENT
DTSTART;TZID=Europe/Berlin:20260529T183000
DTEND;TZID=Europe/Berlin:20260530T173000
DTSTAMP:20260420T035750
CREATED:20260402T101252Z
LAST-MODIFIED:20260402T101346Z
UID:5346-1780079400-1780162200@dagmarcee.de
SUMMARY:waves & voice - wien
DESCRIPTION:Ein Waves Abend und eine Tagesworkshop \nWas erzählt mir mein Körper\, und wie tönt meine Stimme? Was wird zum Ausdruck meines Inneren jenseits des Gedachten? Wo sind Körper und Stimme mehr als nur Werkzeug für Alltägliches und werden zur Sprache meiner Seele? \nAtem ist Leben. Je tiefer wir atmen\, desto lebendiger werden wir. In Bewegung gehen heißt\, den Körper zu öffnen und geschmeidig zu machen. So wird der Resonanzraum weiter und deine Stimme geerdet und voll. \nWir werden spielerisch zu den 5Rhythmen™ mit Tönen experimentieren\, um nicht nur deinen Körper\, sondern auch deine Stimme erklingen zu lassen und dein Bewegungsrepertoire zu erweitern. Die einzigen Voraussetzungen dafür sind Neugierde und Mut\, dich darauf einzulassen. \nANMELDUNG\nhttps://tanzkollektiv.at/reservierungen/
URL:https://dagmarcee.de/event/waves-voice-wien/
LOCATION:GRg2 Zirkusgasse\, Weintraubengasse 29\, Wien\, 1020\, Austria
CATEGORIES:workshop
ATTACH;FMTTYPE=image/jpeg:https://dagmarcee.de/wp-content/uploads/welle-web-2a-1.jpg
ORGANIZER;CN="Tanzkollektiv":MAILTO:together@tanzkollektiv.at
END:VEVENT
END:VCALENDAR