BEGIN:VCALENDAR
VERSION:2.0
PRODID:-//5rhythms Dagmar Cee - ECPv6.15.20//NONSGML v1.0//EN
CALSCALE:GREGORIAN
METHOD:PUBLISH
X-WR-CALNAME:5rhythms Dagmar Cee
X-ORIGINAL-URL:https://dagmarcee.de/en/
X-WR-CALDESC:Events for 5rhythms Dagmar Cee
REFRESH-INTERVAL;VALUE=DURATION:PT1H
X-Robots-Tag:noindex
X-PUBLISHED-TTL:PT1H
BEGIN:VTIMEZONE
TZID:Europe/Berlin
BEGIN:DAYLIGHT
TZOFFSETFROM:+0100
TZOFFSETTO:+0200
TZNAME:CEST
DTSTART:20210328T010000
END:DAYLIGHT
BEGIN:STANDARD
TZOFFSETFROM:+0200
TZOFFSETTO:+0100
TZNAME:CET
DTSTART:20211031T010000
END:STANDARD
BEGIN:DAYLIGHT
TZOFFSETFROM:+0100
TZOFFSETTO:+0200
TZNAME:CEST
DTSTART:20220327T010000
END:DAYLIGHT
BEGIN:STANDARD
TZOFFSETFROM:+0200
TZOFFSETTO:+0100
TZNAME:CET
DTSTART:20221030T010000
END:STANDARD
BEGIN:DAYLIGHT
TZOFFSETFROM:+0100
TZOFFSETTO:+0200
TZNAME:CEST
DTSTART:20230326T010000
END:DAYLIGHT
BEGIN:STANDARD
TZOFFSETFROM:+0200
TZOFFSETTO:+0100
TZNAME:CET
DTSTART:20231029T010000
END:STANDARD
END:VTIMEZONE
BEGIN:VEVENT
DTSTART;TZID=Europe/Berlin:20220727T160000
DTEND;TZID=Europe/Berlin:20220731T160000
DTSTAMP:20260420T144015
CREATED:20220110T203316Z
LAST-MODIFIED:20220518T105516Z
UID:3700-1658937600-1659283200@dagmarcee.de
SUMMARY:heart's whisper - dagmar cee & bettina leuckert
DESCRIPTION:A Waves and Heartbeat Summer Retreat with Bettina Leuckert and Dagmar Cee  \n \nListening. Listening to hearts\, our own and those of others. They tell a lot if we take the time and space to really listen. Rhyme and unrhyme – the movement allows everything to show itself. We listen with our bodies\, we dance and become receptive to the messages from within that are often lost in everyday life.\n \nWith the Waves Level of the 5Rhythms we start the journey – from the talking head to the talking body. We ground and center ourselves\, loosen what is stuck\, get ready for further research and integrate what we have experienced.\nOn the Heartbeat Level we explore the feelings that move us. We learn to surf the waves they bring and strengthen the trust in their positive powers.\nWe will weave these two levels together during our summer week.\n \nWe move indoors and outdoors\, have a wonderful seminar house on the edge of the Schorfheide National Park. The food is vegetarian and delicious. Two experienced teachers support you in your process and being in a group of courageous people gives a lot of inspiration and support on this journey.\nInformation about Bettina here: www.bettina-leuckert.com\n \nTIME\n27 – 31 July 2022\nWednesday\, 16:00 until\nSunday\, 16:00\n\nLOCATION\nBreitenteich mill 2\n16278 Frauenhagen\nOT from Angermünde\n \nCOSTS \nEarly bird\, registration + payment until 20.04.2021:\n380.- €  \nafter that: 420.- €\nDiscount possible\n\nACCOMMODATION/FOOD\nAre to be booked directly at the mill:\nwww.breitenteicher-muehle.com\nmail(at)breitenteicher-muehle.de\nTel : + 49 (0) 3331 301 8 301\n \nAnmeldung bitte hier / Registration please here ![dhvc_form id=”2488″]\nThis workshop counts as 2.5 days of Waves and 2.5 days of Heartbeat experience for Teacher Training. The number of participants is limited.
URL:https://dagmarcee.de/en/event/hearts-whisper-dagmar-cee-bettina-leuckert/
LOCATION:Breitenteicher Mühle\, Breitenteicher Mühle 2\, Frauenhagen\, 16278\, Deutschland
CATEGORIES:workshop
ATTACH;FMTTYPE=image/jpeg:https://dagmarcee.de/wp-content/uploads/welle-web-2a-1.jpg
END:VEVENT
END:VCALENDAR