BEGIN:VCALENDAR
VERSION:2.0
PRODID:-//5rhythms Dagmar Cee - ECPv6.15.20//NONSGML v1.0//EN
CALSCALE:GREGORIAN
METHOD:PUBLISH
X-WR-CALNAME:5rhythms Dagmar Cee
X-ORIGINAL-URL:https://dagmarcee.de/en/
X-WR-CALDESC:Events for 5rhythms Dagmar Cee
REFRESH-INTERVAL;VALUE=DURATION:PT1H
X-Robots-Tag:noindex
X-PUBLISHED-TTL:PT1H
BEGIN:VTIMEZONE
TZID:Europe/Berlin
BEGIN:DAYLIGHT
TZOFFSETFROM:+0100
TZOFFSETTO:+0200
TZNAME:CEST
DTSTART:20210328T010000
END:DAYLIGHT
BEGIN:STANDARD
TZOFFSETFROM:+0200
TZOFFSETTO:+0100
TZNAME:CET
DTSTART:20211031T010000
END:STANDARD
BEGIN:DAYLIGHT
TZOFFSETFROM:+0100
TZOFFSETTO:+0200
TZNAME:CEST
DTSTART:20220327T010000
END:DAYLIGHT
BEGIN:STANDARD
TZOFFSETFROM:+0200
TZOFFSETTO:+0100
TZNAME:CET
DTSTART:20221030T010000
END:STANDARD
BEGIN:DAYLIGHT
TZOFFSETFROM:+0100
TZOFFSETTO:+0200
TZNAME:CEST
DTSTART:20230326T010000
END:DAYLIGHT
BEGIN:STANDARD
TZOFFSETFROM:+0200
TZOFFSETTO:+0100
TZNAME:CET
DTSTART:20231029T010000
END:STANDARD
END:VTIMEZONE
BEGIN:VEVENT
DTSTART;TZID=Europe/Berlin:20220923T180000
DTEND;TZID=Europe/Berlin:20220925T170000
DTSTAMP:20260420T114239
CREATED:20220317T092635Z
LAST-MODIFIED:20220518T105515Z
UID:3690-1663956000-1664125200@dagmarcee.de
SUMMARY:rise - jason rowe & dagmar cee - prague
DESCRIPTION:Coming soon – a waves and heartbeat workshop\n          \n\n           \n          \n\n          \n            \n              TIMES / TIME\n            \n          \n          \n\n          \n            Friday\, 18.30 – 21.00\, open evening\n          \n          \n\n          \n            Saturday\, 11 a.m. – 6 p.m.  \n          \n          \n\n          \n            Sunday\, 10 a.m. – 5 p.m.\n          \n          \n\n           \n          \n\n          \n            \n              PLACE / LOCATION\n            \n          \n          \n\n          \n            Prague\n          \n          \n\n           \n          \n\n          \n            \n              ANMELDUNG / REGISTRATION\n            \n          \n          \n\n          \n            Joseph Tusa\n\n          \n          \n\n          \n            \n           \n          \n\n          \n            \n\n            \n              \n\n              \n                \n              \n              \n\n              \n                Jason Rowe\n              \n              \n\n            \n            \n\n          \n          \n\n          \n            \n\n            fell in love with the 5Rhythms seventeen years ago. He trained with Gabrielle Roth and core faculty becoming an Accredited teacher in 2011. He subsequently studied and qualified to teach the Heartbeat map of the practice with Jonathan Horan in 2015. Jason holds weekly open classes\, regular workshops and teaches out in the wider dancing community across the UK and Internationally. He’s lived and worked in London all his life.\n            \n\n          \n          \n\n           \n          \n\n          https://www.5rhythms.com/teachers/Jason+Rowe
URL:https://dagmarcee.de/en/event/rise-jason-rowe-dagmar-cee-prague/
LOCATION:Taiji Academy\, Polská 2400/1a\,\, Praha\, 120 00\, Tschechische Republik
CATEGORIES:heartbeat,workshop
ATTACH;FMTTYPE=image/jpeg:https://dagmarcee.de/wp-content/uploads/welle-web-2a-1.jpg
ORGANIZER;CN="Joseph Tusa":MAILTO:email@joseftusa.cz
END:VEVENT
END:VCALENDAR