BEGIN:VCALENDAR
VERSION:2.0
PRODID:-//5rhythms Dagmar Cee - ECPv6.15.20//NONSGML v1.0//EN
CALSCALE:GREGORIAN
METHOD:PUBLISH
X-ORIGINAL-URL:https://dagmarcee.de/en/
X-WR-CALDESC:Events for 5rhythms Dagmar Cee
REFRESH-INTERVAL;VALUE=DURATION:PT1H
X-Robots-Tag:noindex
X-PUBLISHED-TTL:PT1H
BEGIN:VTIMEZONE
TZID:Europe/Berlin
BEGIN:DAYLIGHT
TZOFFSETFROM:+0100
TZOFFSETTO:+0200
TZNAME:CEST
DTSTART:20210328T010000
END:DAYLIGHT
BEGIN:STANDARD
TZOFFSETFROM:+0200
TZOFFSETTO:+0100
TZNAME:CET
DTSTART:20211031T010000
END:STANDARD
BEGIN:DAYLIGHT
TZOFFSETFROM:+0100
TZOFFSETTO:+0200
TZNAME:CEST
DTSTART:20220327T010000
END:DAYLIGHT
BEGIN:STANDARD
TZOFFSETFROM:+0200
TZOFFSETTO:+0100
TZNAME:CET
DTSTART:20221030T010000
END:STANDARD
BEGIN:DAYLIGHT
TZOFFSETFROM:+0100
TZOFFSETTO:+0200
TZNAME:CEST
DTSTART:20230326T010000
END:DAYLIGHT
BEGIN:STANDARD
TZOFFSETFROM:+0200
TZOFFSETTO:+0100
TZNAME:CET
DTSTART:20231029T010000
END:STANDARD
END:VTIMEZONE
BEGIN:VEVENT
DTSTART;TZID=Europe/Berlin:20221125T200000
DTEND;TZID=Europe/Berlin:20221127T170000
DTSTAMP:20260420T083501
CREATED:20220110T201454Z
LAST-MODIFIED:20221009T182125Z
UID:3845-1669406400-1669568400@dagmarcee.de
SUMMARY:wild and tender - berlin
DESCRIPTION:The wild\, untamed and loud that wants to find its expression. The Fuck – I want to celebrate lots of life\, let go of the reins and allow craziness.\n\nAnd the subtle\, delicate\, quiet tones when we turn down the inner volume control. Great gestures that become finger play. Screaming that turns into whispering. Unrestrained leaps that fade into a fine tremor….\n\nThis workshop is suitable for all:  \nFor curious beginners and old dance hares.  \nOur focus will be on the rhythms of chaos and stillness and how we can stay present in them. And we want to get the whole range of what we can be moving.\n\nLOCATION\nShin Gi Tai Karate Do\nOhlauer street 5\n10999Berlin \n\nTIME\nFriday\, November 25\, 2022\, 8:00 – 10:30 p.m.\nSaturday\, November 26\, 2022\, 11 a.m. – 6:30 p.m.\nSunday\, November 27\, 2022\, 10:30 a.m. – 5:00 p.m.\n \nCOSTS\n210.- €\nDiscount possible upon request\n \nREGISTRATION\nabout this website\n \nPARTICIPATION REQUIREMENT\n10 Waves hours\n \nPhoto: Callipso
URL:https://dagmarcee.de/en/event/workshop-berlin-2/
LOCATION:Shin Gi Tai Kai Karate Do\, Ohlauer Str. 5\,\, Berlin\, 10999\, Deutschland
CATEGORIES:waves,workshop
ATTACH;FMTTYPE=image/jpeg:https://dagmarcee.de/wp-content/uploads/welle-web-2a-1.jpg
END:VEVENT
END:VCALENDAR