BEGIN:VCALENDAR
VERSION:2.0
PRODID:-//5rhythms Dagmar Cee - ECPv6.15.20//NONSGML v1.0//EN
CALSCALE:GREGORIAN
METHOD:PUBLISH
X-WR-CALNAME:5rhythms Dagmar Cee
X-ORIGINAL-URL:https://dagmarcee.de/en/
X-WR-CALDESC:Events for 5rhythms Dagmar Cee
REFRESH-INTERVAL;VALUE=DURATION:PT1H
X-Robots-Tag:noindex
X-PUBLISHED-TTL:PT1H
BEGIN:VTIMEZONE
TZID:Europe/Berlin
BEGIN:DAYLIGHT
TZOFFSETFROM:+0100
TZOFFSETTO:+0200
TZNAME:CEST
DTSTART:20220327T010000
END:DAYLIGHT
BEGIN:STANDARD
TZOFFSETFROM:+0200
TZOFFSETTO:+0100
TZNAME:CET
DTSTART:20221030T010000
END:STANDARD
BEGIN:DAYLIGHT
TZOFFSETFROM:+0100
TZOFFSETTO:+0200
TZNAME:CEST
DTSTART:20230326T010000
END:DAYLIGHT
BEGIN:STANDARD
TZOFFSETFROM:+0200
TZOFFSETTO:+0100
TZNAME:CET
DTSTART:20231029T010000
END:STANDARD
BEGIN:DAYLIGHT
TZOFFSETFROM:+0100
TZOFFSETTO:+0200
TZNAME:CEST
DTSTART:20240331T010000
END:DAYLIGHT
BEGIN:STANDARD
TZOFFSETFROM:+0200
TZOFFSETTO:+0100
TZNAME:CET
DTSTART:20241027T010000
END:STANDARD
END:VTIMEZONE
BEGIN:VEVENT
DTSTART;TZID=Europe/Berlin:20230325T110000
DTEND;TZID=Europe/Berlin:20230326T170000
DTSTAMP:20260420T022846
CREATED:20221129T093604Z
LAST-MODIFIED:20230108T150103Z
UID:4035-1679742000-1679850000@dagmarcee.de
SUMMARY:curiosity - hanover
DESCRIPTION:A Waves Workshop \n \nCuriosity is the drive to want to look “behind things”. So what moves me? And what moves the others? \nIt is also an attitude of facing life\, facing the unknown and facing not knowing. What happens when we listen to our feet and follow the breath? When we give our bodies space and the soul can paint its pictures in the room? What mysterious stories are revealed to us?\n\n “Between the head and feet of each person lies a billion miles of unexplored territory. If you want to give birth to your true self\, you are going to have to dig deep down into that body of yours and let your soul howl.” Gabrielle Roth\n\nThe 5Rhythms® are wonderful tools for self-exploration. The practice is as simple as it is deep. Their formless shape gives us the right balance between sufficient structure and freedom to let our bodies find their very own dance and get closer to ourselves in the process. When the body takes over and the head becomes still\, a wide field of experience opens up to us. \nORT\nCompagnie Fredeweß\nIlse-Ter-Meer-Weg 7\n30449 Hannover\n\nZEIT\nSamstag\, 25. März 2023\, 11.00 - 18.30 Uhr\nSonntag\, 26. März 2023\, 10.30 - 17.00 Uhr\n\nKOSTEN\n210 €\nErmäßigt 195 €\nFrühbucher (bei Buchung bis 15.02.2023) 180 €\n\nANMELDUNG\nhttps://www.das-tut.de/de/programm/2023/03/25/curiosity-ein-5rhythms-waves-workshop-4102
URL:https://dagmarcee.de/en/event/curiosity-hanover/
CATEGORIES:workshop
ATTACH;FMTTYPE=image/jpeg:https://dagmarcee.de/wp-content/uploads/welle-web-2a-1.jpg
ORGANIZER;CN="TuT - School for dance%2C clown and theater":MAILTO:info@das-tut.de
END:VEVENT
END:VCALENDAR