BEGIN:VCALENDAR
VERSION:2.0
PRODID:-//5rhythms Dagmar Cee - ECPv6.15.20//NONSGML v1.0//EN
CALSCALE:GREGORIAN
METHOD:PUBLISH
X-ORIGINAL-URL:https://dagmarcee.de/en/
X-WR-CALDESC:Events for 5rhythms Dagmar Cee
REFRESH-INTERVAL;VALUE=DURATION:PT1H
X-Robots-Tag:noindex
X-PUBLISHED-TTL:PT1H
BEGIN:VTIMEZONE
TZID:Europe/Berlin
BEGIN:DAYLIGHT
TZOFFSETFROM:+0100
TZOFFSETTO:+0200
TZNAME:CEST
DTSTART:20220327T010000
END:DAYLIGHT
BEGIN:STANDARD
TZOFFSETFROM:+0200
TZOFFSETTO:+0100
TZNAME:CET
DTSTART:20221030T010000
END:STANDARD
BEGIN:DAYLIGHT
TZOFFSETFROM:+0100
TZOFFSETTO:+0200
TZNAME:CEST
DTSTART:20230326T010000
END:DAYLIGHT
BEGIN:STANDARD
TZOFFSETFROM:+0200
TZOFFSETTO:+0100
TZNAME:CET
DTSTART:20231029T010000
END:STANDARD
BEGIN:DAYLIGHT
TZOFFSETFROM:+0100
TZOFFSETTO:+0200
TZNAME:CEST
DTSTART:20240331T010000
END:DAYLIGHT
BEGIN:STANDARD
TZOFFSETFROM:+0200
TZOFFSETTO:+0100
TZNAME:CET
DTSTART:20241027T010000
END:STANDARD
END:VTIMEZONE
BEGIN:VEVENT
DTSTART;TZID=Europe/Berlin:20230517T173000
DTEND;TZID=Europe/Berlin:20230521T150000
DTSTAMP:20260419T232511
CREATED:20221007T105537Z
LAST-MODIFIED:20221029T071111Z
UID:3903-1684344600-1684681200@dagmarcee.de
SUMMARY:5 day heartbeat - seminar house hollerbühl
DESCRIPTION:A 5 day heartbeat workshop. \nDetails are in process \nParticipation requirements: Workshop experience with accredited 5Rhythms instructors \n\n \nDATE \nStart: Wednesday\, May 17\, 2023\, 18:00 h\nEnd: Sunday\, May 21\, 2023 at 15:00 h\n \nSEMINAR COSTS\nRegistration + payment until 20.02.23: 380 €\nafter: 420 €\nDiscount available upon request\n \nACCOMMODATION\nAccommodation is booked directly after registration at the seminar house.\nCost per day incl. vegetarian organic catering:\ngallery 85 €\nDouble room 108 €\nConstruction trailer 105 €\nSingle room from 128 – 148 €\n\n \nREGISTRATION\non this website\nor contact Claudia Adler:\nclaudia(at)dagmarcee.de
URL:https://dagmarcee.de/en/event/appearance-and-being-seminar-house-hollerbuehl-2/
LOCATION:Seminar House Hollerbühl\, Schmalenberg 20\, Dachsberg\, Baden-Wuerttemberg\, 79875\, Deutschland
CATEGORIES:heartbeat,workshop
ATTACH;FMTTYPE=image/jpeg:https://dagmarcee.de/wp-content/uploads/welle-web-2a-1.jpg
ORGANIZER;CN="Dagmar Cee":MAILTO:info@dagmarcee.de
END:VEVENT
END:VCALENDAR