BEGIN:VCALENDAR
VERSION:2.0
PRODID:-//5rhythms Dagmar Cee - ECPv6.15.20//NONSGML v1.0//EN
CALSCALE:GREGORIAN
METHOD:PUBLISH
X-ORIGINAL-URL:https://dagmarcee.de/en/
X-WR-CALDESC:Events for 5rhythms Dagmar Cee
REFRESH-INTERVAL;VALUE=DURATION:PT1H
X-Robots-Tag:noindex
X-PUBLISHED-TTL:PT1H
BEGIN:VTIMEZONE
TZID:Europe/Berlin
BEGIN:DAYLIGHT
TZOFFSETFROM:+0100
TZOFFSETTO:+0200
TZNAME:CEST
DTSTART:20220327T010000
END:DAYLIGHT
BEGIN:STANDARD
TZOFFSETFROM:+0200
TZOFFSETTO:+0100
TZNAME:CET
DTSTART:20221030T010000
END:STANDARD
BEGIN:DAYLIGHT
TZOFFSETFROM:+0100
TZOFFSETTO:+0200
TZNAME:CEST
DTSTART:20230326T010000
END:DAYLIGHT
BEGIN:STANDARD
TZOFFSETFROM:+0200
TZOFFSETTO:+0100
TZNAME:CET
DTSTART:20231029T010000
END:STANDARD
BEGIN:DAYLIGHT
TZOFFSETFROM:+0100
TZOFFSETTO:+0200
TZNAME:CEST
DTSTART:20240331T010000
END:DAYLIGHT
BEGIN:STANDARD
TZOFFSETFROM:+0200
TZOFFSETTO:+0100
TZNAME:CET
DTSTART:20241027T010000
END:STANDARD
END:VTIMEZONE
BEGIN:VEVENT
DTSTART;TZID=Europe/Berlin:20230526T193000
DTEND;TZID=Europe/Berlin:20230529T140000
DTSTAMP:20260419T215035
CREATED:20221214T195510Z
LAST-MODIFIED:20230322T121107Z
UID:4017-1685129400-1685368800@dagmarcee.de
SUMMARY:magic moments - berlin
DESCRIPTION:Our annual charity Whitsun workshop. \nThis year with Bettina Leuckert\, Dagmar Cee\, Katya Verbrugghe (B)\, Lucija Glagolic Hora (HR) and Pauline van Hezik (NL) \n4 days\, 5rhythms\, 5 teachers and many dancing feet and hearts.\nThis year the focus is on aliveness – sometimes it seems so self-evident and sometimes it is endlessly fascinating and wondrous.\n\nThe 5Rhythms bring us into contact with different facets: flowing\, percussive\, wild\, light\, still – all these ways in which life vibrates in us and through us. Wave by wave we come into contact with what is alive in us\, what wants to be let go and fall away\, what wants to pulsate and renew itself.  \n\nTogether we support each other in these processes – discovering\, celebrating and cultivating the magic of aliveness within and between us.  \n\nThis workshop is suitable for people with and without previous experience.\nHalf of the profits will be donated to 5Rhythms® charitable causes.\n\n—\nThis year’s team: Bettina Leuckert\, Dagmar Cee\, Katya Verbrugghe (B)\, Lucija Glagolic Hora (HR) and Pauline van Hezik (NL)\n4 days\, 5 teachers\, 5Rhythms\, and your dancing feet and hearts.\nThis year our focus is on aliveness – sometimes little self-evident and other times endlessly fascinating and wondrous.\n\nThe 5Rhythms invite us into connection with different aspects: fluid\, percussive\, wild\, light\, still – all creating ways in which life can truly vibrate in and through us. Wave by wave we discover what is alive in us\, what wants to be let go and released\, what wants to pulsate and renew itself.\n\nTogether we can support each other in these moments – exploring\, celebrating and cultivating the magic of aliveness within us and between us.\n\nThis workshop is open for beginners and advanced dancers.\nHalf of the profit will be donated towards 5Rhythms® charity projects. \n\nTIME / SCEDULE\nFriday\, 19:00 – 22:00\nSaturday/Sunday\, 11:00 a.m. – 6:30 p.m.\nMonday\, 10:00 – 14:00\n\nPLACE / LOCATION\nFree Waldorf School Berlin – Mitte\nWeinmeister Street 16\n10178 Berlin\n\nSEMINAR COSTS / COST\nFrühbucher / early bird 230 €\nAnmeldung + Bezahlung / registration + payment bis / until 24 March 2023 / 24.März 2023\ndanach / after: 270 €\nDiscount available upon request. / Reduced prices available on request.\n\nANMELDUNG / REGISTRATION\nThis workshop counts as 3 days of Waves experience for Teacher Training. \nSign up here! / Sign up here!\n\n	\n		\n			\n				\n					\n						Magic Moments\n						\n							\n							\n							\n						\n						mit Dagmar Cee & Bettina Leuckert\n						26. - 29. Mai 2023Berlin\n						 Anmeldung / Sign up\n						[ * = Pflichtfeld / Required field ] \n					\n					\n						Anmeldung / registration: * \n						\n							\n							230 € (early bird - bei Anmeldung und Bezahlung bis 24.03.2023 / Registration and payment until March 24th 2023)\n							\n						\n						\n							\n							270 € (normal - bei Anmeldung und Bezahlung nach 24.03.2023 / Registration and payment after March 24th 2023)\n							\n						\n						\n					\n					\n						\n							First name\n							\n						\n						\n							Last name\n							\n						\n					\n					\n						\n							Address\n							\n						\n						\n							Address suffix\n							\n						\n					\n					\n						\n							Zip Code\n							\n						\n						\n							City\n							\n						\n					\n					\n						\n							Country\n							\n							\n								\n								\n								\n								\n								\n								\n								\n								\n								\n								\n								\n								\n								\n								\n								\n								\n								\n								\n								\n								\n								\n								\n								\n								\n								\n								\n								\n								\n								\n								\n								\n								\n								\n								\n								\n								\n								\n								\n								\n								\n								\n								\n								\n								\n								\n								\n								\n								\n								\n								\n								\n								\n								\n								\n								\n								\n								\n								\n								\n								\n								\n								\n								\n								\n								\n								\n								\n								\n								\n								\n								\n								\n								\n								\n								\n								\n								\n								\n								\n								\n								\n								\n								\n								\n								\n								\n								\n								\n								\n								\n								\n								\n								\n								\n								\n								\n								\n								\n								\n								\n								\n								\n								\n								\n								\n								\n								\n								\n								\n								\n								\n								\n								\n								\n								\n								\n								\n								\n								\n								\n								\n								\n								\n								\n								\n								\n								\n								\n								\n								\n								\n								\n								\n								\n								\n								\n								\n								\n								\n								\n								\n								\n								\n								\n								\n								\n								\n								\n								\n								\n								\n								\n								\n								\n								\n								\n								\n								\n								\n								\n								\n								\n								\n								\n								\n								\n								\n								\n								\n								\n								\n								\n								\n								\n								\n								\n								\n								\n								\n								\n								\n								\n								\n								\n								\n								\n								\n								\n								\n								\n								\n								\n								\n								\n								\n								\n								\n								\n								\n								\n								\n								\n								\n								\n								\n								\n								\n								\n								\n								\n								\n								\n								\n								\n								\n								\n								\n								\n								\n								\n								\n								\n								\n								\n								\n								\n								\n								\n								\n								\n								\n								\n								\n								\n								\n								\n								\n								\n								\n								\n								\n								\n								\n								\n								\n								\n								\n								\n								\n								\n								\n								\n								\n								\n								\n								\n								\n								\n								\n								\n								\n								\n								\n								\n								\n								\n								\n								\n								\n								\n								\n								\n								\n								\n								\n								\n								\n								\n								\n								\n								\n								\n								\n								\n								\n								\n								\n								\n								\n								\n								\n								\n								\n								\n								\n								\n								\n								\n								\n								\n								\n								\n								\n								\n								\n								\n								\n								\n								\n								\n								\n								\n								\n								\n								\n								\n								\n								\n								\n								\n								\n								\n								\n								\n								\n								\n								\n								\n								\n								\n								\n								\n								\n								\n								\n								\n								\n								\n								\n								\n								\n								\n								\n								\n								\n								\n								\n								\n								\n								\n								\n								\n								\n								\n								\n								\n								\n								\n								\n								\n								\n								\n								\n								\n								\n								\n								\n								\n								\n								\n								\n								\n								\n								\n								\n								\n								\n								\n								\n								\n								\n								\n								\n								\n								\n								\n								\n								\n								\n								\n							\n						\n						\n							Phone number\n							\n						\n					\n					\n						Email\n						\n					\n\n					\n						\n					\n					\n						\n							\n							* Ich habe die allgemeinen Geschäftsbedingungen gelesen und akzeptiert. / I’ve read and accept the terms & conditions.\n							\n						\n						\n							\n							* Ich habe die Datenschutzerklärung zur Kenntnis genommen. Ich stimme zu\, dass meine Angaben und Daten zur Beantwortung und Verarbeitung meiner Anfrage elektronisch erhoben und gespeichert werden. Hinweis: Sie können Ihre Einwilligung jederzeit für die Zukunft per E-Mail an die E-Mail-Adresse info@dagmarcee.de widerrufen.\n								I took note of the Privacy Policy. I agree that my information and data will be collected and stored electronically to answer and process my request. Note: You can revoke your consent at any time for the future by e-mail to e-mail-address info@dagmarcee.de.\n							\n						\n						\n							\n							\n								Ich möchte von Bettina Leuckert und/oder Dagmar Cee ihren Newsletter über weitere Angebote ihrer 5Rhythmen Arbeit erhalten. \n								Wir nutzen Newsletter2Go als Software für die Versendung unserer Newsletter. Im Rahmen dieser Anmeldung erklären Sie sich einverstanden\, dass Ihre eingegebenen Daten an die Sendinblue GmbH übermittelt werden. Bitte beachten Sie die Datenschutzbestimmungen und Allgemeinen Geschäftsbedingungen der Sendinblue GmbH. \n								I want to receive from Bettina Leuckert and/or Dagmar Cee their newsletter about further offers of their 5Rhythms work. \n								We use Newsletter2Go as the software for sending our newsletters. Within the scope of this registration\, you agree that your entered data will be transmitted to Sendinblue GmbH. Please note the privacy policy and general terms and conditions of Sendinblue GmbH. \n							\n						\n					\n\n					Senden | Submit\n\n					\n	\n	\n				\n			\n\n		\n	\n\n\n\n 
URL:https://dagmarcee.de/en/event/magic-moments-berlin/
LOCATION:Waldorf School – Berlin Center\, Weinmeisterstrasse 16\, Berlin\, 10178\, Deutschland
CATEGORIES:workshop
ATTACH;FMTTYPE=image/jpeg:https://dagmarcee.de/wp-content/uploads/welle-web-2a-1.jpg
END:VEVENT
END:VCALENDAR