BEGIN:VCALENDAR
VERSION:2.0
PRODID:-//5rhythms Dagmar Cee - ECPv6.15.20//NONSGML v1.0//EN
CALSCALE:GREGORIAN
METHOD:PUBLISH
X-ORIGINAL-URL:https://dagmarcee.de/en/
X-WR-CALDESC:Events for 5rhythms Dagmar Cee
REFRESH-INTERVAL;VALUE=DURATION:PT1H
X-Robots-Tag:noindex
X-PUBLISHED-TTL:PT1H
BEGIN:VTIMEZONE
TZID:Europe/Berlin
BEGIN:DAYLIGHT
TZOFFSETFROM:+0100
TZOFFSETTO:+0200
TZNAME:CEST
DTSTART:20220327T010000
END:DAYLIGHT
BEGIN:STANDARD
TZOFFSETFROM:+0200
TZOFFSETTO:+0100
TZNAME:CET
DTSTART:20221030T010000
END:STANDARD
BEGIN:DAYLIGHT
TZOFFSETFROM:+0100
TZOFFSETTO:+0200
TZNAME:CEST
DTSTART:20230326T010000
END:DAYLIGHT
BEGIN:STANDARD
TZOFFSETFROM:+0200
TZOFFSETTO:+0100
TZNAME:CET
DTSTART:20231029T010000
END:STANDARD
BEGIN:DAYLIGHT
TZOFFSETFROM:+0100
TZOFFSETTO:+0200
TZNAME:CEST
DTSTART:20240331T010000
END:DAYLIGHT
BEGIN:STANDARD
TZOFFSETFROM:+0200
TZOFFSETTO:+0100
TZNAME:CET
DTSTART:20241027T010000
END:STANDARD
END:VTIMEZONE
BEGIN:VEVENT
DTSTART;TZID=Europe/Berlin:20231020T180000
DTEND;TZID=Europe/Berlin:20231022T170000
DTSTAMP:20260419T160611
CREATED:20230417T111423Z
LAST-MODIFIED:20231020T090040Z
UID:4371-1697824800-1697994000@dagmarcee.de
SUMMARY:exploration - hanover
DESCRIPTION:A Waves Workshop \n \n“Between the head and feet of each person lies a billion miles of unexplored territory. If you want to give birth to your true self\, you are going to have to dig deep down into that body of yours and let your soul howl.” Gabrielle Roth \nThe 5Rhythms are a wonderful\, simple\, yet profound movement meditation and method to go on a journey of discovery with yourself. They are like a map that you can navigate through. They take you far into your inner world and let you find your own truth there\, if you dare to engage with it. \nFlowing: Wer bin ich und was brauche ich?\nStaccato: Was habe ich in die Welt zu geben?\nChaos: Wie kann ich feste Vorstellungen loslassen und mich dem schöpferischen Teil in mir öffnen?\nLyrical: Was sind meine Muster und wie verantwortlich gehe ich mit meiner Freiheit um?\nStillness: Wie agiere ich aus mir selbst und aus meiner inneren Weisheit heraus?\nThis workshop is designed in such a way that it is possible to find an introduction to the 5Rhythms® \, as well as to deepen their practice. It counts as 2.5 days of Waves experience for Teacher Training. \nORT\nCompagnie Fredeweß\, \nIlse-Ter-Meer-Weg 7\nHannover\n\nZEIT\nFreitag\, 20. Oktober 2023\, 19.00 - 21.00 Uhr\nSamstag\, 21. Oktober 2023\, 11.00 - 18.30 Uhr\nSonntag\, 22. Oktober 2023\, 10.30 - 17.00 Uhr\n\nKOSTEN\nkommt\n\nANMELDUNG\nhttps://www.das-tut.de/
URL:https://dagmarcee.de/en/event/exploration-hanover/
CATEGORIES:workshop
ATTACH;FMTTYPE=image/jpeg:https://dagmarcee.de/wp-content/uploads/welle-web-2a-1.jpg
ORGANIZER;CN="TuT - School for dance%2C clown and theater":MAILTO:info@das-tut.de
END:VEVENT
END:VCALENDAR