BEGIN:VCALENDAR
VERSION:2.0
PRODID:-//5rhythms Dagmar Cee - ECPv6.15.20//NONSGML v1.0//EN
CALSCALE:GREGORIAN
METHOD:PUBLISH
X-WR-CALNAME:5rhythms Dagmar Cee
X-ORIGINAL-URL:https://dagmarcee.de/en/
X-WR-CALDESC:Events for 5rhythms Dagmar Cee
REFRESH-INTERVAL;VALUE=DURATION:PT1H
X-Robots-Tag:noindex
X-PUBLISHED-TTL:PT1H
BEGIN:VTIMEZONE
TZID:Europe/Berlin
BEGIN:DAYLIGHT
TZOFFSETFROM:+0100
TZOFFSETTO:+0200
TZNAME:CEST
DTSTART:20210328T010000
END:DAYLIGHT
BEGIN:STANDARD
TZOFFSETFROM:+0200
TZOFFSETTO:+0100
TZNAME:CET
DTSTART:20211031T010000
END:STANDARD
BEGIN:DAYLIGHT
TZOFFSETFROM:+0100
TZOFFSETTO:+0200
TZNAME:CEST
DTSTART:20220327T010000
END:DAYLIGHT
BEGIN:STANDARD
TZOFFSETFROM:+0200
TZOFFSETTO:+0100
TZNAME:CET
DTSTART:20221030T010000
END:STANDARD
BEGIN:DAYLIGHT
TZOFFSETFROM:+0100
TZOFFSETTO:+0200
TZNAME:CEST
DTSTART:20230326T010000
END:DAYLIGHT
BEGIN:STANDARD
TZOFFSETFROM:+0200
TZOFFSETTO:+0100
TZNAME:CET
DTSTART:20231029T010000
END:STANDARD
END:VTIMEZONE
BEGIN:VEVENT
DTSTART;TZID=Europe/Berlin:20220603T190000
DTEND;TZID=Europe/Berlin:20220606T140000
DTSTAMP:20260420T202618
CREATED:20161027T111210Z
LAST-MODIFIED:20220518T164939Z
UID:3687-1654282800-1654524000@dagmarcee.de
SUMMARY:magic beings
DESCRIPTION:4 days on the road with the 5Rhythms® on the trail of the magic that dances within us and between us. \nGet moving together\, meet and inspire each other. It’s the simple\, essential things that we’ve come to appreciate most in recent years: Moving. Breathe. Vibrate. Together. Being. We want to discover the magic that lies hidden in it. \nWe are looking forward to offering this workshop over Whitsun in Berlin – a small version of Magic Moments – this year with Dagmar and Bettina.\n\n\n\n\n\n—————————————————————————\n \nmagic beings  \n \n4 days of 5Rhythms® practice discovering the magic that lives within and between us.\nMoving together\, meeting and inspiring each other. It is the simple\, essential things that we have learned to appreciate in recent years: Movement. Breath. Vibrations. Being together.  \nStep by step we will invite those moments in which magic is at play.\n \nWe are looking forward to offering this workshop over Pentecost in Berlin – a small version of Magic Moments – this year with Dagmar and Bettina.\n\n\n\n\n\n\n  \nInfo about Bettina: www.bettina-leuckert.com \nTIME / SCEDULE \n03.06.22 – 06.06.22\nFriday\, 19:00 – 22:00\nSaturday/Sunday\, 11:00 a.m. – 6:30 p.m.\nMonday\, 10:00 – 14:00\n\nPLACE/LOCATION\nWaldorf School Center\nWeinmeisterstrasse 16\n10178 Berlin\n\nSEMINAR COSTS / COST\nEarly bird registration + payment until 10.04.2022\nEarly Bird if you register and pay until April 10\n220.- €\nafter/after: 270.- €\nDiscount available upon request.\nReduced prices available on request.\n\nAnmeldung bitte hier / Registration please here ![dhvc_form id=”3366″]\nDagmar: +49 (0)30-6930440\nBettina: +49 (0)30 -37445589\n\nThis workshop counts as 3 days of Waves experience for Teacher Training.
URL:https://dagmarcee.de/en/event/magic-beings/
LOCATION:Waldorf School – Berlin Center\, Weinmeisterstrasse 16\, Berlin\, 10178\, Deutschland
CATEGORIES:workshop
ATTACH;FMTTYPE=image/jpeg:https://dagmarcee.de/wp-content/uploads/group-4swbreit.jpg
END:VEVENT
BEGIN:VEVENT
DTSTART;TZID=Europe/Berlin:20220525T180000
DTEND;TZID=Europe/Berlin:20220529T160000
DTSTAMP:20260420T202618
CREATED:20201012T062445Z
LAST-MODIFIED:20220518T105516Z
UID:3695-1653501600-1653840000@dagmarcee.de
SUMMARY:appearance and being - seminar house hollerbühl
DESCRIPTION:Photo: Sophia Schmidt\, Pixabay\n\nPoint a camera at people and they change. A game of seeing and being seen\, of posing and hiding\, of fears and longings\, of masks\, inner truth and outer image\, of appearances and being\, begins. \nHow much of what makes you\, your potential and beauty\, is visible behind the trained masks?\nWe can use the power of images to start a creative process on the way to ourselves\, our essence\, to find an artistic expression together with the desire to move. This creates an awareness that allows us the freedom to choose. \nIn this workshop we will explore how we can be congruent\, how our outer appearance goes together with the inner feeling\, how we make our essence visible.\nTo visualize\, we will actually design our masks and move with them. The camera will support you to discover the beauty of your being under the beautiful appearance. \nSeminarhaus Hollerbühl is a wonderful place where I have enjoyed giving intensive\, heart-opening workshops for 16 years. Very familiar and kept\, located in the wonderful southern Black Forest\, it offers an enchanting setting to go deep into movement and processes together. \nParticipation requirements: Workshop experience with accredited 5Rhythms instructors \n\n \nDATE \nStart: Wednesday\, May 25\, 2022\, 18:00 h\nEnd: Sunday\, 29 May 2022 at 15:00 h\n \nSEMINAR COSTS\nRegistration + payment until 01.03.22: 370 €\nthereafter: 410 €\nDiscount available upon request\n \nACCOMMODATION\nincl. Vegetarian full board\nSeminar House Hollerbühl\nAccommodation is booked directly at the seminar house\nGallery 288 €\nDOUBLE ROOM 368 €\nConstruction trailer 356 €\nEZ from 432 – 500 €\n \nREGISTRATION\nabout this website\nor with Claudia Adler:\nclaudia(at)dagmarcee.de
URL:https://dagmarcee.de/en/event/appearance-and-being-seminar-house-hollerbuehl/
LOCATION:Seminar House Hollerbühl\, Schmalenberg 20\, Dachsberg\, Baden-Wuerttemberg\, 79875\, Deutschland
CATEGORIES:heartbeat,workshop
ATTACH;FMTTYPE=image/jpeg:https://dagmarcee.de/wp-content/uploads/welle-web-2a-1.jpg
ORGANIZER;CN="Dagmar Cee":MAILTO:info@dagmarcee.de
END:VEVENT
BEGIN:VEVENT
DTSTART;TZID=Europe/Berlin:20220520T184500
DTEND;TZID=Europe/Berlin:20220520T220000
DTSTAMP:20260420T202618
CREATED:20200225T103820Z
LAST-MODIFIED:20220518T105516Z
UID:3656-1653072300-1653084000@dagmarcee.de
SUMMARY:wild waves karlsruhe
DESCRIPTION:is a guided Wave evening\, open to all\, to deepen the 5Rhythms™ practice. \n \nTime:\n19:30 – 22:00\n\nCost:\n15 € \nBring along:\nComfortable clothes in layers to change\, water. We dance barefoot or in dancing shoes. \nFirst-time dancers can find out about the 5Rhythms work here in advance.
URL:https://dagmarcee.de/en/event/wild-waves-karlsruhe/
LOCATION:Sportkita Wirbelwind\, Am Sportpark 1A\, Karlsruhe\, Baden-Württemberg\, 76131\, Deutschland
CATEGORIES:waves
ATTACH;FMTTYPE=image/jpeg:https://dagmarcee.de/wp-content/uploads/welle-web-2a-1.jpg
ORGANIZER;CN="Roland":MAILTO:wave-tanz@web.de
END:VEVENT
END:VCALENDAR